BEGIN:VCALENDAR
VERSION:2.0
PRODID:-//INSIDER - ECPv5.5.0.1//NONSGML v1.0//EN
CALSCALE:GREGORIAN
METHOD:PUBLISH
X-WR-CALNAME:INSIDER
X-ORIGINAL-URL:https://insider-h2020.eu
X-WR-CALDESC:Events for INSIDER
BEGIN:VTIMEZONE
TZID:Europe/Paris
BEGIN:DAYLIGHT
TZOFFSETFROM:+0100
TZOFFSETTO:+0200
TZNAME:CEST
DTSTART:20180325T010000
END:DAYLIGHT
BEGIN:STANDARD
TZOFFSETFROM:+0200
TZOFFSETTO:+0100
TZNAME:CET
DTSTART:20181028T010000
END:STANDARD
END:VTIMEZONE
BEGIN:VEVENT
DTSTART;VALUE=DATE:20180918
DTEND;VALUE=DATE:20180920
DTSTAMP:20260423T103829
CREATED:20180710T132203Z
LAST-MODIFIED:20180710T132203Z
UID:24846-1537228800-1537401599@insider-h2020.eu
SUMMARY:3rd World Nuclear Decommissioning & Waste Management Congress
DESCRIPTION:The 3rd World Nuclear Decommissioning & Waste Management Congress will take place in London (UK).  \nTop 6 reasons why you can’t miss it! \n\nCatch up with Projects Updates and Decommissioning Plans in European countries\, such as UK\, Germany\, France\, Sweden\, Finland\, Spain\, and Italy\nHear about International Practices from Global Markets including Asia-Pacific\, North America and Africa\nMeet participants from our Co-located event – 3rd World Nuclear Decommissioning & Waste Management Congress (Europe) 2018\nDiscuss Hot Topics regarding Regulatory/Licensing Requirements\, Financing Aspects\, Supply Chain\, Interim Storage of Waste and Advanced Technologies\nBenefit from Exclusive Group Case Study on Management of Radioactive Waste\nEnjoy Multi-Registration Benefits: Discount & Free Booth
URL:https://insider-h2020.eu/event/3rd-world-nuclear-decommissioning-waste-management-congress/
CATEGORIES:International events
END:VEVENT
END:VCALENDAR