BEGIN:VCALENDAR
VERSION:2.0
PRODID:-//INSIDER - ECPv5.5.0.1//NONSGML v1.0//EN
CALSCALE:GREGORIAN
METHOD:PUBLISH
X-WR-CALNAME:INSIDER
X-ORIGINAL-URL:https://insider-h2020.eu
X-WR-CALDESC:Events for INSIDER
BEGIN:VTIMEZONE
TZID:Europe/Paris
BEGIN:DAYLIGHT
TZOFFSETFROM:+0100
TZOFFSETTO:+0200
TZNAME:CEST
DTSTART:20180325T010000
END:DAYLIGHT
BEGIN:STANDARD
TZOFFSETFROM:+0200
TZOFFSETTO:+0100
TZNAME:CET
DTSTART:20181028T010000
END:STANDARD
END:VTIMEZONE
BEGIN:VEVENT
DTSTART;VALUE=DATE:20181203
DTEND;VALUE=DATE:20181208
DTSTAMP:20260423T230155
CREATED:20181106T125027Z
LAST-MODIFIED:20181106T125027Z
UID:24917-1543795200-1544227199@insider-h2020.eu
SUMMARY:Decommissioning of nuclear installations - Training course
DESCRIPTION:As the final step of the nuclear facility life\, decommissioning differs quite significantly from the operational period of life. Changing environment\, development of new tools\, “one shot” operations\, production of huge amounts of waste\, discrepancies between original design and the final layout of the facility\, need for a global risk management with evolving radiation protection programme are some characteristics operators\, health physicists\, technicians are faced with when processing with dismantling operations. Moreover\, regulatory requirements\, choice for a dismantling strategy\, safety and waste management\, assessment and follow-up of doses\, financial provisions and human resources management give still rise to many questions when a decommissioning project has to be set up. \nThe main objective of the training course (from 3-7 December in Mol\, Belgium) is to provide the participants with the basic requirements regarding the management of a decommissioning project and to share experience from ongoing decommissioning projects. \nThis course frames within the European ELINDER project (European Learning Initiatives for Nuclear decommissioning and Environmental Remediation). \nThe lectures will address the following topics: \n\nLegal and regulatory framework;\nStrategies for decommissioning;\nDecommissioning project management;\nSafety aspects and management;\nInventory\, facility and site characterization;\nCase studies (BR3\,BN\,Thetis);\nDismantling operations;\nOptimization tools;\nMaterial management and characterization;\nFinal survey plan and safety report;\nDecontamination techniques.
URL:https://insider-h2020.eu/event/decommissioning-of-nuclear-installations-training-course/
CATEGORIES:European event
ATTACH;FMTTYPE=image/jpeg:https://insider-h2020.eu/wp-content/uploads/2018/11/Capture-1.jpg
END:VEVENT
END:VCALENDAR