BEGIN:VCALENDAR
VERSION:2.0
PRODID:-//INSIDER - ECPv5.5.0.1//NONSGML v1.0//EN
CALSCALE:GREGORIAN
METHOD:PUBLISH
X-WR-CALNAME:INSIDER
X-ORIGINAL-URL:https://insider-h2020.eu
X-WR-CALDESC:Events for INSIDER
BEGIN:VTIMEZONE
TZID:Europe/Paris
BEGIN:DAYLIGHT
TZOFFSETFROM:+0100
TZOFFSETTO:+0200
TZNAME:CEST
DTSTART:20190331T010000
END:DAYLIGHT
BEGIN:STANDARD
TZOFFSETFROM:+0200
TZOFFSETTO:+0100
TZNAME:CET
DTSTART:20191027T010000
END:STANDARD
END:VTIMEZONE
BEGIN:VEVENT
DTSTART;VALUE=DATE:20190512
DTEND;VALUE=DATE:20190516
DTSTAMP:20260423T151223
CREATED:20190114T155343Z
LAST-MODIFIED:20190114T155343Z
UID:24978-1557619200-1557964799@insider-h2020.eu
SUMMARY:ICAPP 2019
DESCRIPTION:The 2019 edition of the International Congress on Advances in Nuclear Power Plants (ICAPP) will take place in Juan-les-Pins (France)\, from 12-15 May 2019.  \nICAPP’2019 will be the place to get a comprehensive overview of nuclear energy’s rebound and to understand the many ways it will fully contribute to decarbonizing the world. \n\n Topics & leaders
URL:https://insider-h2020.eu/event/icapp-2019/
CATEGORIES:European event
ATTACH;FMTTYPE=image/jpeg:https://insider-h2020.eu/wp-content/uploads/2019/01/Capture.jpg
END:VEVENT
END:VCALENDAR