BEGIN:VCALENDAR
VERSION:2.0
PRODID:-//INSIDER - ECPv5.5.0.1//NONSGML v1.0//EN
CALSCALE:GREGORIAN
METHOD:PUBLISH
X-WR-CALNAME:INSIDER
X-ORIGINAL-URL:https://insider-h2020.eu
X-WR-CALDESC:Events for INSIDER
BEGIN:VTIMEZONE
TZID:Europe/Paris
BEGIN:DAYLIGHT
TZOFFSETFROM:+0100
TZOFFSETTO:+0200
TZNAME:CEST
DTSTART:20190331T010000
END:DAYLIGHT
BEGIN:STANDARD
TZOFFSETFROM:+0200
TZOFFSETTO:+0100
TZNAME:CET
DTSTART:20191027T010000
END:STANDARD
END:VTIMEZONE
BEGIN:VEVENT
DTSTART;VALUE=DATE:20190625
DTEND;VALUE=DATE:20190627
DTSTAMP:20260423T110449
CREATED:20181106T133257Z
LAST-MODIFIED:20181106T133257Z
UID:24945-1561420800-1561593599@insider-h2020.eu
SUMMARY:ICNDWMT 2019
DESCRIPTION:The ICNDWMT 2019: 21st International Conference on Nuclear Decommissioning and Waste Management Technology (from 25-26 June\, in Paris\, France) aims to bring together leading academic scientists\, researchers and research scholars to exchange and share their experiences and research results on all aspects of Nuclear Decommissioning and Waste Management Technology. It also provides a premier interdisciplinary platform for researchers\, practitioners and educators to present and discuss the most recent innovations\, trends\, and concerns as well as practical challenges encountered and solutions adopted in the fields of Nuclear Decommissioning and Waste Management Technology.
URL:https://insider-h2020.eu/event/icndwmt-2019/
CATEGORIES:International events
ATTACH;FMTTYPE=image/jpeg:https://insider-h2020.eu/wp-content/uploads/2018/11/Capture-7.jpg
END:VEVENT
END:VCALENDAR