BEGIN:VCALENDAR
VERSION:2.0
PRODID:-//INSIDER - ECPv5.5.0.1//NONSGML v1.0//EN
CALSCALE:GREGORIAN
METHOD:PUBLISH
X-WR-CALNAME:INSIDER
X-ORIGINAL-URL:https://insider-h2020.eu
X-WR-CALDESC:Events for INSIDER
BEGIN:VTIMEZONE
TZID:Europe/Paris
BEGIN:DAYLIGHT
TZOFFSETFROM:+0100
TZOFFSETTO:+0200
TZNAME:CEST
DTSTART:20190331T010000
END:DAYLIGHT
BEGIN:STANDARD
TZOFFSETFROM:+0200
TZOFFSETTO:+0100
TZNAME:CET
DTSTART:20191027T010000
END:STANDARD
END:VTIMEZONE
BEGIN:VEVENT
DTSTART;VALUE=DATE:20190107
DTEND;VALUE=DATE:20190109
DTSTAMP:20260423T151557
CREATED:20181106T125542Z
LAST-MODIFIED:20181106T125542Z
UID:24923-1546819200-1546991999@insider-h2020.eu
SUMMARY:ICNWMT 2019
DESCRIPTION:ICNWMT 2019: 21st International Conference on Nuclear Waste Management and Treatment (from 7-8 January\, in Tokyo) aims to bring together leading academic scientists\, researchers and research scholars to exchange and share their experiences and research results on all aspects of Nuclear Waste Management and Treatment. It also provides a premier interdisciplinary platform for researchers\, practitioners and educators to present and discuss the most recent innovations\, trends\, and concerns as well as practical challenges encountered and solutions adopted in the fields of Nuclear Waste Management and Treatment.
URL:https://insider-h2020.eu/event/icnwmt-2019/
CATEGORIES:International events
ATTACH;FMTTYPE=image/jpeg:https://insider-h2020.eu/wp-content/uploads/2018/11/Capture-2.jpg
END:VEVENT
END:VCALENDAR