BEGIN:VCALENDAR
VERSION:2.0
PRODID:-//INSIDER - ECPv5.5.0.1//NONSGML v1.0//EN
CALSCALE:GREGORIAN
METHOD:PUBLISH
X-WR-CALNAME:INSIDER
X-ORIGINAL-URL:https://insider-h2020.eu
X-WR-CALDESC:Events for INSIDER
BEGIN:VTIMEZONE
TZID:Europe/Paris
BEGIN:DAYLIGHT
TZOFFSETFROM:+0100
TZOFFSETTO:+0200
TZNAME:CEST
DTSTART:20180325T010000
END:DAYLIGHT
BEGIN:STANDARD
TZOFFSETFROM:+0200
TZOFFSETTO:+0100
TZNAME:CET
DTSTART:20181028T010000
END:STANDARD
END:VTIMEZONE
BEGIN:VEVENT
DTSTART;VALUE=DATE:20181106
DTEND;VALUE=DATE:20181109
DTSTAMP:20260423T231723
CREATED:20180710T134345Z
LAST-MODIFIED:20180710T134345Z
UID:24860-1541462400-1541721599@insider-h2020.eu
SUMMARY:ICOND 2018
DESCRIPTION:Taking place in Aachen (Germany) from 6-8 November 2018\,  the International Conference On Nuclear Decommisioning (ICOND) focuses on the relevant legal parameters in Germany and compares decommissioning strategies worldwide. This includes roles of authorization\, financial planning\, and change management in the transition from nuclear power plant to decommissioned project. Furthermore the different options for interim storage and disposal of radioactive waste are discussed. \nICOND addresses operators of nuclear plants and companies who are working on the planning\, implementation and supervision of decommissioning projects; authorities and technical experts whose focus includes the approval and supervisions procedure of decommissioning projects; and research institutions\, which are responsible for the dismantling of research reactors and the storage and/or disposal of radioactive hazardous waste. \n\n\n\n\n\n\n\n\nICOND will enable participants to proficiently discuss the challenges of the decommissioning of nuclear plants in a practical way\, and to define optimal planning variants for decommissioning implementation. Simultaneous translation (German/English) will be available.
URL:https://insider-h2020.eu/event/icond-2018/
CATEGORIES:International events
ATTACH;FMTTYPE=image/jpeg:https://insider-h2020.eu/wp-content/uploads/2018/07/Capture-4.jpg
END:VEVENT
END:VCALENDAR