BEGIN:VCALENDAR
VERSION:2.0
PRODID:-//INSIDER - ECPv5.5.0.1//NONSGML v1.0//EN
CALSCALE:GREGORIAN
METHOD:PUBLISH
X-WR-CALNAME:INSIDER
X-ORIGINAL-URL:https://insider-h2020.eu
X-WR-CALDESC:Events for INSIDER
BEGIN:VTIMEZONE
TZID:Europe/Paris
BEGIN:DAYLIGHT
TZOFFSETFROM:+0100
TZOFFSETTO:+0200
TZNAME:CEST
DTSTART:20210328T010000
END:DAYLIGHT
BEGIN:STANDARD
TZOFFSETFROM:+0200
TZOFFSETTO:+0100
TZNAME:CET
DTSTART:20211031T010000
END:STANDARD
END:VTIMEZONE
BEGIN:VEVENT
DTSTART;VALUE=DATE:20211101
DTEND;VALUE=DATE:20211106
DTSTAMP:20260424T042632
CREATED:20210408T145415Z
LAST-MODIFIED:20210408T145415Z
UID:25632-1635724800-1636156799@insider-h2020.eu
SUMMARY:International Conference on Radioactive Waste Management: Solutions for a Sustainable Future
DESCRIPTION:The International Conference on Radioactive Waste Management: “Solutions for a Sustainable Future” is organised by the International Atomic Energy Agency (IAEA). It will take place in Vienne in November 2021. \nThe purpose of the event is to share experiences in the management of radioactive waste\, with the aim of increasing the visibility of progress\, good practice and effective solutions. \nThe conference aims to foster information exchange on current progress and solutions in the area of radioactive waste management. The Conference will also highlight the effectiveness of radioactive waste management techniques and technologies as currently applied and will contribute to promoting the adoption of good practices and well-integrated approaches for the future. \nTopics to be covered will include: \n\nnational programmatic perspectives\nimplementation of waste management strategies\nsolutions for specific wastes\nrole of the safety case development in supporting radioactive waste management\nsocio-economic aspects of radioactive waste management programmes\nintegrated waste management\nmultinational cooperation in radioactive waste management
URL:https://insider-h2020.eu/event/international-conference-on-radioactive-waste-management-solutions-for-a-sustainable-future/
LOCATION:Vienna\, Austria
END:VEVENT
END:VCALENDAR