BEGIN:VCALENDAR
VERSION:2.0
PRODID:-//INSIDER - ECPv5.5.0.1//NONSGML v1.0//EN
CALSCALE:GREGORIAN
METHOD:PUBLISH
X-WR-CALNAME:INSIDER
X-ORIGINAL-URL:https://insider-h2020.eu
X-WR-CALDESC:Events for INSIDER
BEGIN:VTIMEZONE
TZID:Europe/Paris
BEGIN:DAYLIGHT
TZOFFSETFROM:+0100
TZOFFSETTO:+0200
TZNAME:CEST
DTSTART:20220327T010000
END:DAYLIGHT
BEGIN:STANDARD
TZOFFSETFROM:+0200
TZOFFSETTO:+0100
TZNAME:CET
DTSTART:20221030T010000
END:STANDARD
END:VTIMEZONE
BEGIN:VEVENT
DTSTART;VALUE=DATE:20220504
DTEND;VALUE=DATE:20220507
DTSTAMP:20260423T231811
CREATED:20200618T093734Z
LAST-MODIFIED:20210408T144334Z
UID:25410-1651622400-1651881599@insider-h2020.eu
SUMMARY:NUWCEM 2022: International Symposium on Cement-Based Materials for Nuclear Wastes
DESCRIPTION:The symposium \nA 3 day conference talks and posters\, will be held in Avignon\, France\, from 4 to 6 May 2022\, at the Palais des Papes\, an historical place in the center of the town. This will be the 4th NUWCEM Conference. \nScope and objectives \nCementation is a widely applied technique for the conditioning of low – and intermediate – level radioactive wastes.  However\, specific issues have still to be addressed\, such as the limitation of adverse cement-waste interactions which may affect the quality of the resulting solidified waste form\, or the understanding and prediction of long-term properties of the waste packages and cement barriers. There is also a need for safe processes minimizing the production of secondary wastes\, and for monitoring techniques of cemented waste packages and cement barriers. The objective is to promote the exchange of advanced information on the ongoing research and development activities dealing with cementation of nuclear wastes\, from elaboration of waste packages to their final disposal. \nOrganised by CEA\, French Commission for Atomic and Alternative Energies and SFEN\, French Nuclear Energy Society.
URL:https://insider-h2020.eu/event/international-symposium-on-cement-based-materials-for-nuclear-wastes/
LOCATION:Avignon\, France
CATEGORIES:International events
ATTACH;FMTTYPE=image/png:https://insider-h2020.eu/wp-content/uploads/2020/06/nuwcem.png
END:VEVENT
END:VCALENDAR