BEGIN:VCALENDAR
VERSION:2.0
PRODID:-//INSIDER - ECPv5.5.0.1//NONSGML v1.0//EN
CALSCALE:GREGORIAN
METHOD:PUBLISH
X-WR-CALNAME:INSIDER
X-ORIGINAL-URL:https://insider-h2020.eu
X-WR-CALDESC:Events for INSIDER
BEGIN:VTIMEZONE
TZID:Europe/Paris
BEGIN:DAYLIGHT
TZOFFSETFROM:+0100
TZOFFSETTO:+0200
TZNAME:CEST
DTSTART:20180325T010000
END:DAYLIGHT
BEGIN:STANDARD
TZOFFSETFROM:+0200
TZOFFSETTO:+0100
TZNAME:CET
DTSTART:20181028T010000
END:STANDARD
END:VTIMEZONE
BEGIN:VEVENT
DTSTART;VALUE=DATE:20180904
DTEND;VALUE=DATE:20180907
DTSTAMP:20260423T193009
CREATED:20180710T125029Z
LAST-MODIFIED:20180710T125100Z
UID:24836-1536019200-1536278399@insider-h2020.eu
SUMMARY:RadWaste Summit
DESCRIPTION:  \nThe 2018 RadWaste Summit will take place in Henderson (Nevada\, USA) from 4-6 September. It is an opportunity for industry and government to come together over the course of three days to connect on radioactive waste management. This is a forum to discuss challenges and solutions to the management and disposition of radioactive waste\, as well as a powerful relationship-building opportunity to reach some of the world’s most influential government officials and organizations. \nMajor topics: \n\nPerspectives from the Department of Energy (DOE) and Office of Environmental Management Updates\nNuclear Regulatory Commission (NRC) Updates\nCommercial Waste Disposal Priorities\nYucca Mountain\nNew Technology\nInternational Case Studies\nLocal Regulatory Impact\nWaste Isolation Pilot Plant (WIPP)\nStorage and Transportation\nCongressional Outlook and Updates\n\nRegistration and venue details: http://www.radwastesummit.com/venue
URL:https://insider-h2020.eu/event/radwaste-summit/
CATEGORIES:International events
ATTACH;FMTTYPE=image/jpeg:https://insider-h2020.eu/wp-content/uploads/2018/07/Capture.jpg
END:VEVENT
END:VCALENDAR